BEGIN:VCALENDAR
VERSION:2.0
PRODID:-//ValleCentral.org - ECPv6.15.20//NONSGML v1.0//EN
CALSCALE:GREGORIAN
METHOD:PUBLISH
X-WR-CALNAME:ValleCentral.org
X-ORIGINAL-URL:https://vallecentral.org
X-WR-CALDESC:Events for ValleCentral.org
REFRESH-INTERVAL;VALUE=DURATION:PT1H
X-Robots-Tag:noindex
X-PUBLISHED-TTL:PT1H
BEGIN:VTIMEZONE
TZID:America/Los_Angeles
BEGIN:DAYLIGHT
TZOFFSETFROM:-0800
TZOFFSETTO:-0700
TZNAME:PDT
DTSTART:20250309T100000
END:DAYLIGHT
BEGIN:STANDARD
TZOFFSETFROM:-0700
TZOFFSETTO:-0800
TZNAME:PST
DTSTART:20251102T090000
END:STANDARD
BEGIN:DAYLIGHT
TZOFFSETFROM:-0800
TZOFFSETTO:-0700
TZNAME:PDT
DTSTART:20260308T100000
END:DAYLIGHT
BEGIN:STANDARD
TZOFFSETFROM:-0700
TZOFFSETTO:-0800
TZNAME:PST
DTSTART:20261101T090000
END:STANDARD
BEGIN:DAYLIGHT
TZOFFSETFROM:-0800
TZOFFSETTO:-0700
TZNAME:PDT
DTSTART:20270314T100000
END:DAYLIGHT
BEGIN:STANDARD
TZOFFSETFROM:-0700
TZOFFSETTO:-0800
TZNAME:PST
DTSTART:20271107T090000
END:STANDARD
END:VTIMEZONE
BEGIN:VEVENT
DTSTART;TZID=America/Los_Angeles:20260519T160000
DTEND;TZID=America/Los_Angeles:20260519T190000
DTSTAMP:20260422T151847
CREATED:20260421T232902Z
LAST-MODIFIED:20260421T232902Z
UID:10000017-1779206400-1779217200@vallecentral.org
SUMMARY:Taller de Inmigración en Fresno 19 Mayo 2026
DESCRIPTION:Taller de Inmigración en Fresno 19 Mayo 2026\nTaller de Inmigración en Fresno 19 Mayo 2026: La Red de Integración de los Inmigrantes en el Valle Central (CVIIC)\, en colaboración con organizaciones aliadas\, ofrece de manera gratuita un Taller de Inmigración en la Ciudad de Fresno. El taller se llevará a cabo el martes\, 19 de mayo de 2026\, de 4:00 p.m. a 7:00 p.m.\, en la oficina de CVIIC\, ubicada en: 5014 E. University Ave. Fresno\, CA. 93727. \nLos servicios que se proporcionarán en el taller son los siguientes: \n\nEvaluación para la ciudadanía\nAyuda con la solicitud de Renovación de DACA\nAyuda con la solicitud de Renovación de Residencia Permanente Legal\nConsultas con abogados de inmigración\nInformación sobre “Conozca sus derechos” y Tarjetas Rojas\n\nSi usted asiste para los servicios de ciudadanía\, debe traer lo siguiente: \n\nTarjeta de Residencia Permanente Legal\nTarjeta de Seguro Social\nLicencia de Manejo o Identificación\nDeclaración de impuestos más reciente\nSi actualmente recibe Medi-Cal o es de bajos ingresos\, puede ser elegible para la exención de la tarifa\n\nSi usted asiste para los servicios de renovación de DACA\, debe traer lo siguiente: \n\nCopia de Su Solicitud Anterior\nTarjeta de Permiso De Trabajo\nTarjeta de Seguro Social\nLicencia de Manejo o Identificación\nCarta de Aprobación de DACA (opcional)\nPasaporte (opcional)\nSolicitud disponible en línea con pago con tarjeta de crédito o débito ($555.00)\n\nLos servicios se ofrecen con cita o sin cita\, pero se le dará preferencia a las personas que han programado una cita. \n¡Para programar su cita\, llámenos al 559-666-6446! ¡Esperamos su llamada! \nLe agradecemos compartir esta información con sus contactos en redes sociales sobre este evento: Taller de Inmigración en Fresno 19 Mayo 2026 \nTambién le invitamos a descargar nuestro directorio de organizaciones sin fines de lucro que ofrecen servicios de inmigración: https://vallecentral.org/directorio-servicios-de-inmigracion/ \nMuchas gracias por visitar nuestros sitios de internet: ValleCentral.org | CVIIC.org | InmigrantesEmprendedores.org \nImmigration Workshop in Fresno May 19\, 2026\nImmigration Workshop in Fresno May 19\, 2026: The Central Valley Immigrant Integration Collaborative (CVIIC)\, in collaboration with partner organizations\, is offering a free Immigration Workshop in the City of Fresno. The workshop will take place on Tuesday\, May 19\, 2026\, from 4:00 p.m. to 7:00 p.m. at the CVIIC office\, located at 5014 E. University Ave.\, Fresno\, CA 93727. \nThe services that will be provided at the workshop include: \n\nCitizenship Evaluation\nDACA Renewal Applications\nLegal Permanent Resident Renewal Applications (green card)\nConsultations with immigration attorneys\nInformation on “Know Your Rights” and Red Cards\n\nIf you are attending for citizenship services\, please bring the following: \n\nLegal Permanent Resident Card (green card)\nSocial Security Card\nDriver’s License or Identification\nMost recent tax return\nIf you currently receive Medi-Cal or are low-income\, you may be eligible for a fee waiver\n\nIf you are attending for DACA renewal services\, please bring the following: \n\nCopy of your previous application\nEmployment Authorization Card\nSocial Security card\nDriver’s license or identification\nDACA approval notice (optional)\nPassport (optional)\nApplication available online with payment by credit or debit card ($555.00)\n\nServices are available both by appointment and on a walk-in basis; however\, priority will be given to individuals with appointments scheduled. \nTo schedule an appointment\, please call us at 559-666-6446. \nWe appreciate you sharing this information with your contacts on social media about this event: Immigration Workshop in Fresno May 19\, 2026 \nWe also invite you to download our directory of nonprofit organizations that provide immigration services:\nhttps://vallecentral.org/directorio-servicios-de-inmigracion/ \nThank you for visiting our websites: ValleCentral.org | CVIIC.org | InmigrantesEmprendedores.org
URL:https://vallecentral.org/event/taller-de-inmigracion-en-fresno-19-mayo-2026/
LOCATION:CVIIC Office\, 5014 E. University Ave.\, Fresno\, CA\, 93727\, United States
CATEGORIES:abogados,ciudadania,cviic,daca,fresno,gratuito,green card,inmigracion,taller,Workshop
ATTACH;FMTTYPE=image/png:https://vallecentral.org/wp-content/uploads/2026/04/Fresno-May-19.png
END:VEVENT
BEGIN:VEVENT
DTSTART;TZID=America/Los_Angeles:20260522T163000
DTEND;TZID=America/Los_Angeles:20260522T193000
DTSTAMP:20260422T151847
CREATED:20260421T234213Z
LAST-MODIFIED:20260421T234213Z
UID:10000018-1779467400-1779478200@vallecentral.org
SUMMARY:Taller de Inmigración en Delhi 22 Mayo 2026
DESCRIPTION:Taller de Inmigración en Delhi 22 Mayo 2026\nTaller de Inmigración en Delhi 22 Mayo 2026: La Red de Integración de los Inmigrantes en el Valle Central (CVIIC)\, en colaboración con organizaciones aliadas\, ofrece de manera gratuita un Taller de Inmigración en la Ciudad de Delhi. El taller se llevará a cabo el viernes\, 22 de mayo de 2026\, de 4:30 p.m. a 7:30 p.m.\, en la Escuela El Capitan Elementary ubicada en: 10115 5th St. Delhi\, CA. 95315. \nLos servicios que se proporcionarán en el taller son los siguientes: \n\nEvaluación para la ciudadanía\nAyuda con la solicitud de Renovación de DACA\nAyuda con la solicitud de Renovación de Residencia Permanente Legal\nConsultas con abogados de inmigración\nInformación sobre “Conozca sus derechos” y Tarjetas Rojas\n\nSi usted asiste para los servicios de ciudadanía\, debe traer lo siguiente: \n\nTarjeta de Residencia Permanente Legal\nTarjeta de Seguro Social\nLicencia de Manejo o Identificación\nDeclaración de impuestos más reciente\nSi actualmente recibe Medi-Cal o es de bajos ingresos\, puede ser elegible para la exención de la tarifa\n\nSi usted asiste para los servicios de renovación de DACA\, debe traer lo siguiente: \n\nCopia de Su Solicitud Anterior\nTarjeta de Permiso De Trabajo\nTarjeta de Seguro Social\nLicencia de Manejo o Identificación\nCarta de Aprobación de DACA (opcional)\nPasaporte (opcional)\nSolicitud disponible en línea con pago con tarjeta de crédito o débito ($555.00)\n\nLos servicios se ofrecen con cita o sin cita\, pero se le dará preferencia a las personas que han programado una cita. \n¡Para programar su cita\, llámenos al 559-666-6446! ¡Esperamos su llamada! \nLe agradecemos compartir esta información con sus contactos en redes sociales sobre este evento: Taller de Inmigración en Delhi 22 Mayo 2026 \nTambién le invitamos a descargar nuestro directorio de organizaciones sin fines de lucro que ofrecen servicios de inmigración: https://vallecentral.org/directorio-servicios-de-inmigracion/ \nMuchas gracias por visitar nuestros sitios de internet: ValleCentral.org | CVIIC.org | InmigrantesEmprendedores.org \nImmigration Workshop in Delhi May 22\, 2026\nImmigration Workshop in Delhi May 22\, 2026: The Central Valley Immigrant Integration Collaborative (CVIIC)\, in collaboration with partner organizations\, is offering a free Immigration Workshop in the City of Delhi. The workshop will take place on Friday\, May 22\, 2026\, from 4:30 p.m. to 7:30 p.m. at El Capitan Elementary School\, located at 10115 5th St.\, Delhi\, CA 95315. \nThe services that will be provided at the workshop include: \n\nCitizenship Evaluation\nDACA Renewal Applications\nLegal Permanent Resident Renewal Applications (green card)\nConsultations with immigration attorneys\nInformation on “Know Your Rights” and Red Cards\n\nIf you are attending for citizenship services\, please bring the following: \n\nLegal Permanent Resident Card (green card)\nSocial Security Card\nDriver’s License or Identification\nMost recent tax return\nIf you currently receive Medi-Cal or are low-income\, you may be eligible for a fee waiver\n\nIf you are attending for DACA renewal services\, please bring the following: \n\nCopy of your previous application\nEmployment Authorization Card\nSocial Security card\nDriver’s license or identification\nDACA approval notice (optional)\nPassport (optional)\nApplication available online with payment by credit or debit card ($555.00)\n\nServices are available both by appointment and on a walk-in basis; however\, priority will be given to individuals with appointments scheduled. \nTo schedule an appointment\, please call us at 559-666-6446. \nWe appreciate you sharing this information with your contacts on social media about this event: Immigration Workshop in Delhi May 22\, 2026 \nWe also invite you to download our directory of nonprofit organizations that provide immigration services:\nhttps://vallecentral.org/directorio-servicios-de-inmigracion/ \nThank you for visiting our websites: ValleCentral.org | CVIIC.org | InmigrantesEmprendedores.org
URL:https://vallecentral.org/event/taller-de-inmigracion-en-delhi-22-mayo-2026/
LOCATION:El Capita Elementary Delhi\, 10115 5th St.\, Delhi\, 95315\, United States
CATEGORIES:abogados,ciudadania,cviic,daca,Delhi,gratuito,green card,inmigracion,taller,Workshop
ATTACH;FMTTYPE=image/png:https://vallecentral.org/wp-content/uploads/2026/04/Delhi-Mayo-22.png
END:VEVENT
BEGIN:VEVENT
DTSTART;TZID=America/Los_Angeles:20260529T160000
DTEND;TZID=America/Los_Angeles:20260529T190000
DTSTAMP:20260422T151847
CREATED:20260421T235145Z
LAST-MODIFIED:20260421T235145Z
UID:10000019-1780070400-1780081200@vallecentral.org
SUMMARY:Taller de Inmigración en Madera 29 Mayo 2026
DESCRIPTION:Taller de Inmigración en Madera 29 Mayo 2026\nTaller de Inmigración en Madera 29 Mayo 2026: La Red de Integración de los Inmigrantes en el Valle Central (CVIIC)\, en colaboración con organizaciones aliadas\, ofrece de manera gratuita un Taller de Inmigración en la Ciudad de Madera. El taller se llevará a cabo el viernes\, 29 de mayo de 2026\, de 4:00 p.m. a 7:00 p.m.\, en la Madera County Workforce Assistance Center ubicada en: 2037 W. Cleveland Ave. Madera\, CA. 93637. \nLos servicios que se proporcionarán en el taller son los siguientes: \n\nEvaluación para la ciudadanía\nAyuda con la solicitud de Renovación de DACA\nAyuda con la solicitud de Renovación de Residencia Permanente Legal\nConsultas con abogados de inmigración\nInformación sobre “Conozca sus derechos” y Tarjetas Rojas\n\nSi usted asiste para los servicios de ciudadanía\, debe traer lo siguiente: \n\nTarjeta de Residencia Permanente Legal\nTarjeta de Seguro Social\nLicencia de Manejo o Identificación\nDeclaración de impuestos más reciente\nSi actualmente recibe Medi-Cal o es de bajos ingresos\, puede ser elegible para la exención de la tarifa\n\nSi usted asiste para los servicios de renovación de DACA\, debe traer lo siguiente: \n\nCopia de Su Solicitud Anterior\nTarjeta de Permiso De Trabajo\nTarjeta de Seguro Social\nLicencia de Manejo o Identificación\nCarta de Aprobación de DACA (opcional)\nPasaporte (opcional)\nSolicitud disponible en línea con pago con tarjeta de crédito o débito ($555.00)\n\nLos servicios se ofrecen con cita o sin cita\, pero se le dará preferencia a las personas que han programado una cita. \n¡Para programar su cita\, llámenos al 559-666-6446! ¡Esperamos su llamada! \nLe agradecemos compartir esta información con sus contactos en redes sociales sobre este evento: Taller de Inmigración en Madera 29 Mayo 2026 \nTambién le invitamos a descargar nuestro directorio de organizaciones sin fines de lucro que ofrecen servicios de inmigración: https://vallecentral.org/directorio-servicios-de-inmigracion/ \nMuchas gracias por visitar nuestros sitios de internet: ValleCentral.org | CVIIC.org | InmigrantesEmprendedores.org \nImmigration Workshop in Madera May 29\, 2026\nImmigration Workshop in Madera May 29\, 2026: The Central Valley Immigrant Integration Collaborative (CVIIC)\, in collaboration with partner organizations\, is offering a free Immigration Workshop in the City of Madera. The workshop will take place on Friday\, May 29\, 2026\, from 4:00 p.m. to 7:00 p.m. at the Madera County Workforce Assistance Center\, located at 2037 W. Cleveland Ave.\, Madera\, CA 93637. \nThe services that will be provided at the workshop include: \n\nCitizenship Evaluation\nDACA Renewal Applications\nLegal Permanent Resident Renewal Applications (green card)\nConsultations with immigration attorneys\nInformation on “Know Your Rights” and Red Cards\n\nIf you are attending for citizenship services\, please bring the following: \n\nLegal Permanent Resident Card (green card)\nSocial Security Card\nDriver’s License or Identification\nMost recent tax return\nIf you currently receive Medi-Cal or are low-income\, you may be eligible for a fee waiver\n\nIf you are attending for DACA renewal services\, please bring the following: \n\nCopy of your previous application\nEmployment Authorization Card\nSocial Security card\nDriver’s license or identification\nDACA approval notice (optional)\nPassport (optional)\nApplication available online with payment by credit or debit card ($555.00)\n\nServices are available both by appointment and on a walk-in basis; however\, priority will be given to individuals with appointments scheduled. \nTo schedule an appointment\, please call us at 559-666-6446. \nWe appreciate you sharing this information with your contacts on social media about this event: Immigration Workshop in Madera May 29\, 2026 \nWe also invite you to download our directory of nonprofit organizations that provide immigration services:\nhttps://vallecentral.org/directorio-servicios-de-inmigracion/ \nThank you for visiting our websites: ValleCentral.org | CVIIC.org | InmigrantesEmprendedores.org
URL:https://vallecentral.org/event/taller-de-inmigracion-en-madera-29-mayo-2026/
LOCATION:Madera County Workforce Center\, 2037 W. Cleveland. Ave\, Madera\, CA\, 93637\, United States
CATEGORIES:abogados,ciudadania,cviic,daca,gratuito,green card,inmigracion,Madera,taller,Workshop
ATTACH;FMTTYPE=image/png:https://vallecentral.org/wp-content/uploads/2026/04/Madera-may-29th.png
END:VEVENT
BEGIN:VEVENT
DTSTART;TZID=America/Los_Angeles:20260612T160000
DTEND;TZID=America/Los_Angeles:20260612T190000
DTSTAMP:20260422T151847
CREATED:20260422T001133Z
LAST-MODIFIED:20260422T001133Z
UID:10000022-1781280000-1781290800@vallecentral.org
SUMMARY:Taller de Inmigración en Fresno 12 Junio 2026
DESCRIPTION:Taller de Inmigración en Fresno 12 Junio 2026\nTaller de Inmigración en Fresno 12 Junio 2026: La Red de Integración de los Inmigrantes en el Valle Central (CVIIC)\, en colaboración con organizaciones aliadas\, ofrece de manera gratuita un Taller de Inmigración en la Ciudad de Fresno. El taller se llevará a cabo el viernes\, 12 de junio de 2026\, de 4:00 p.m. a 7:00 p.m.\, en la oficina de CVIIC\, ubicada en: 5014 E. University Ave. Fresno\, CA. 93727. \nLos servicios que se proporcionarán en el taller son los siguientes: \n\nEvaluación para la ciudadanía\nAyuda con la solicitud de Renovación de DACA\nAyuda con la solicitud de Renovación de Residencia Permanente Legal\nConsultas con abogados de inmigración\nInformación sobre “Conozca sus derechos” y Tarjetas Rojas\n\nSi usted asiste para los servicios de ciudadanía\, debe traer lo siguiente: \n\nTarjeta de Residencia Permanente Legal\nTarjeta de Seguro Social\nLicencia de Manejo o Identificación\nDeclaración de impuestos más reciente\nSi actualmente recibe Medi-Cal o es de bajos ingresos\, puede ser elegible para la exención de la tarifa\n\nSi usted asiste para los servicios de renovación de DACA\, debe traer lo siguiente: \n\nCopia de Su Solicitud Anterior\nTarjeta de Permiso De Trabajo\nTarjeta de Seguro Social\nLicencia de Manejo o Identificación\nCarta de Aprobación de DACA (opcional)\nPasaporte (opcional)\nSolicitud disponible en línea con pago con tarjeta de crédito o débito ($555.00)\n\nLos servicios se ofrecen con cita o sin cita\, pero se le dará preferencia a las personas que han programado una cita. \n¡Para programar su cita\, llámenos al 559-666-6446! ¡Esperamos su llamada! \nLe agradecemos compartir esta información con sus contactos en redes sociales sobre este evento: Taller de Inmigración en Fresno 12 Junio 2026 \nTambién le invitamos a descargar nuestro directorio de organizaciones sin fines de lucro que ofrecen servicios de inmigración: https://vallecentral.org/directorio-servicios-de-inmigracion/ \nMuchas gracias por visitar nuestros sitios de internet: ValleCentral.org | CVIIC.org | InmigrantesEmprendedores.org \nImmigration Workshop in Fresno June 12\, 2026\nImmigration Workshop in Fresno June 12\, 2026: The Central Valley Immigrant Integration Collaborative (CVIIC)\, in collaboration with partner organizations\, is offering a free Immigration Workshop in the City of Fresno. The workshop will take place on Friday\, June 12\, 2026\, from 4:00 p.m. to 7:00 p.m. at the CVIIC office\, located at 5014 E. University Ave.\, Fresno\, CA 93727. \nThe services that will be provided at the workshop include: \n\nCitizenship Evaluation\nDACA Renewal Applications\nLegal Permanent Resident Renewal Applications (green card)\nConsultations with immigration attorneys\nInformation on “Know Your Rights” and Red Cards\n\nIf you are attending for citizenship services\, please bring the following: \n\nLegal Permanent Resident Card (green card)\nSocial Security Card\nDriver’s License or Identification\nMost recent tax return\nIf you currently receive Medi-Cal or are low-income\, you may be eligible for a fee waiver\n\nIf you are attending for DACA renewal services\, please bring the following: \n\nCopy of your previous application\nEmployment Authorization Card\nSocial Security card\nDriver’s license or identification\nDACA approval notice (optional)\nPassport (optional)\nApplication available online with payment by credit or debit card ($555.00)\n\nServices are available both by appointment and on a walk-in basis; however\, priority will be given to individuals with appointments scheduled. \nTo schedule an appointment\, please call us at 559-666-6446. \nWe appreciate you sharing this information with your contacts on social media about this event: Immigration Workshop in Fresno June 12\, 2026 \nWe also invite you to download our directory of nonprofit organizations that provide immigration services:\nhttps://vallecentral.org/directorio-servicios-de-inmigracion/ \nThank you for visiting our websites: ValleCentral.org | CVIIC.org | InmigrantesEmprendedores.org
URL:https://vallecentral.org/event/taller-de-inmigracion-en-fresno-12-junio-2026/
LOCATION:CVIIC Office\, 5014 E. University Ave.\, Fresno\, CA\, 93727\, United States
CATEGORIES:abogados,ciudadania,cviic,daca,fresno,gratuito,green card,inmigracion,taller,Workshop
ATTACH;FMTTYPE=image/png:https://vallecentral.org/wp-content/uploads/2026/04/fresno-junio-12.png
END:VEVENT
BEGIN:VEVENT
DTSTART;TZID=America/Los_Angeles:20260618T160000
DTEND;TZID=America/Los_Angeles:20260618T190000
DTSTAMP:20260422T151847
CREATED:20260422T000525Z
LAST-MODIFIED:20260422T000525Z
UID:10000020-1781798400-1781809200@vallecentral.org
SUMMARY:Taller de Inmigración en Avenal 18 Junio 2026
DESCRIPTION:Taller de Inmigración en Avenal 18 Junio 2026\nTaller de Inmigración en Avenal 18 Junio 2026: La Red de Integración de los Inmigrantes en el Valle Central (CVIIC)\, en colaboración con organizaciones aliadas\, ofrece de manera gratuita un Taller de Inmigración en la Ciudad de Avenal. El taller se llevará a cabo el jueves\, 18 de junio de 2026\, de 4:00 p.m. a 7:00 p.m.\, en la oficina de Family Engagement Center ubicada en: 205 N Park Ave. Avenal\, CA. 93204. \nLos servicios que se proporcionarán en el taller son los siguientes: \n\nEvaluación para la ciudadanía\nAyuda con la solicitud de Renovación de DACA\nAyuda con la solicitud de Renovación de Residencia Permanente Legal\nConsultas con abogados de inmigración\nInformación sobre “Conozca sus derechos” y Tarjetas Rojas\n\nSi usted asiste para los servicios de ciudadanía\, debe traer lo siguiente: \n\nTarjeta de Residencia Permanente Legal\nTarjeta de Seguro Social\nLicencia de Manejo o Identificación\nDeclaración de impuestos más reciente\nSi actualmente recibe Medi-Cal o es de bajos ingresos\, puede ser elegible para la exención de la tarifa\n\nSi usted asiste para los servicios de renovación de DACA\, debe traer lo siguiente: \n\nCopia de Su Solicitud Anterior\nTarjeta de Permiso De Trabajo\nTarjeta de Seguro Social\nLicencia de Manejo o Identificación\nCarta de Aprobación de DACA (opcional)\nPasaporte (opcional)\nSolicitud disponible en línea con pago con tarjeta de crédito o débito ($555.00)\n\nLos servicios se ofrecen con cita o sin cita\, pero se le dará preferencia a las personas que han programado una cita. \n¡Para programar su cita\, llámenos al 559-666-6446! ¡Esperamos su llamada! \nLe agradecemos compartir esta información con sus contactos en redes sociales sobre este evento: Taller de Inmigración en Avenal 18 Junio 2026 \nTambién le invitamos a descargar nuestro directorio de organizaciones sin fines de lucro que ofrecen servicios de inmigración: https://vallecentral.org/directorio-servicios-de-inmigracion/ \nMuchas gracias por visitar nuestros sitios de internet: ValleCentral.org | CVIIC.org | InmigrantesEmprendedores.org \nImmigration Workshop in Avenal June 18\, 2026\nImmigration Workshop in Avenal June 18\, 2026: The Central Valley Immigrant Integration Collaborative (CVIIC)\, in collaboration with partner organizations\, is offering a free Immigration Workshop in the City of Avenal. The workshop will take place on Thursday\, June 18\, 2026\, from 4:00 p.m. to 7:00 p.m. at the Family Engagement Center\, located at: 205 N Park Ave.\, Avenal\, CA 93204. \nThe services that will be provided at the workshop include: \n\nCitizenship Evaluation\nDACA Renewal Applications\nLegal Permanent Resident Renewal Applications (green card)\nConsultations with immigration attorneys\nInformation on “Know Your Rights” and Red Cards\n\nIf you are attending for citizenship services\, please bring the following: \n\nLegal Permanent Resident Card (green card)\nSocial Security Card\nDriver’s License or Identification\nMost recent tax return\nIf you currently receive Medi-Cal or are low-income\, you may be eligible for a fee waiver\n\nIf you are attending for DACA renewal services\, please bring the following: \n\nCopy of your previous application\nEmployment Authorization Card\nSocial Security card\nDriver’s license or identification\nDACA approval notice (optional)\nPassport (optional)\nApplication available online with payment by credit or debit card ($555.00)\n\nServices are available both by appointment and on a walk-in basis; however\, priority will be given to individuals with appointments scheduled. \nTo schedule an appointment\, please call us at 559-666-6446. \nWe appreciate you sharing this information with your contacts on social media about this event: Immigration Workshop in Avenal June 18\, 2026 \nWe also invite you to download our directory of nonprofit organizations that provide immigration services:\nhttps://vallecentral.org/directorio-servicios-de-inmigracion/ \nThank you for visiting our websites: ValleCentral.org | CVIIC.org | InmigrantesEmprendedores.org
URL:https://vallecentral.org/event/taller-de-inmigracion-en-avenal-18-junio-2026/
LOCATION:Avenl Family Engagement Center\, 205 N Park Ave.\, Avenal\, 93204\, United States
CATEGORIES:abogados,Avenal,ciudadania,cviic,daca,gratuito,green card,inmigracion,taller,Workshop
ATTACH;FMTTYPE=image/png:https://vallecentral.org/wp-content/uploads/2026/04/Avenal-June-18th.png
END:VEVENT
BEGIN:VEVENT
DTSTART;TZID=America/Los_Angeles:20260625T160000
DTEND;TZID=America/Los_Angeles:20260625T190000
DTSTAMP:20260422T151847
CREATED:20260422T001905Z
LAST-MODIFIED:20260422T001905Z
UID:10000021-1782403200-1782414000@vallecentral.org
SUMMARY:Taller de Inmigración en Orosi 25 Junio 2026
DESCRIPTION:Taller de Inmigración en Orosi 25 Junio 2026\nTaller de Inmigración en Orosi 25 Junio 2026: La Red de Integración de los Inmigrantes en el Valle Central (CVIIC)\, en colaboración con organizaciones aliadas\, ofrece de manera gratuita un Taller de Inmigración en la Ciudad de Orosi. El taller se llevará a cabo el jueves\, 25 de junio de 2026\, de 4:00 p.m. a 7:00 p.m.\, en Cutler-Orosi Centro de Educacion Familiar ubicada en: 40802 Road 128\, Orosi\, CA. 93647. \nLos servicios que se proporcionarán en el taller son los siguientes: \n\nEvaluación para la ciudadanía\nAyuda con la solicitud de Renovación de DACA\nAyuda con la solicitud de Renovación de Residencia Permanente Legal\nConsultas con abogados de inmigración\nInformación sobre “Conozca sus derechos” y Tarjetas Rojas\n\nSi usted asiste para los servicios de ciudadanía\, debe traer lo siguiente: \n\nTarjeta de Residencia Permanente Legal\nTarjeta de Seguro Social\nLicencia de Manejo o Identificación\nDeclaración de impuestos más reciente\nSi actualmente recibe Medi-Cal o es de bajos ingresos\, puede ser elegible para la exención de la tarifa\n\nSi usted asiste para los servicios de renovación de DACA\, debe traer lo siguiente: \n\nCopia de Su Solicitud Anterior\nTarjeta de Permiso De Trabajo\nTarjeta de Seguro Social\nLicencia de Manejo o Identificación\nCarta de Aprobación de DACA (opcional)\nPasaporte (opcional)\nSolicitud disponible en línea con pago con tarjeta de crédito o débito ($555.00)\n\nLos servicios se ofrecen con cita o sin cita\, pero se le dará preferencia a las personas que han programado una cita. \n¡Para programar su cita\, llámenos al 559-666-6446! ¡Esperamos su llamada! \nLe agradecemos compartir esta información con sus contactos en redes sociales sobre este evento: Taller de Inmigración en Orosi 25 Junio 2026 \nTambién le invitamos a descargar nuestro directorio de organizaciones sin fines de lucro que ofrecen servicios de inmigración: https://vallecentral.org/directorio-servicios-de-inmigracion/ \nMuchas gracias por visitar nuestros sitios de internet: ValleCentral.org | CVIIC.org | InmigrantesEmprendedores.org \nImmigration Workshop in Orosi June 25\, 2026\nImmigration Workshop in Orosi June 25\, 2026: The Central Valley Immigrant Integration Collaborative (CVIIC)\, in collaboration with partner organizations\, is offering a free Immigration Workshop in the City of Orosi. The workshop will take place on Thursday\, June 25\, 2026\, from 4:00 p.m. to 7:00 p.m. at the Cutler-Orosi Family Education Center\, located at 40802 Road 128\, Orosi\, CA 93647. \nThe services that will be provided at the workshop include: \n\nCitizenship Evaluation\nDACA Renewal Applications\nLegal Permanent Resident Renewal Applications (green card)\nConsultations with immigration attorneys\nInformation on “Know Your Rights” and Red Cards\n\nIf you are attending for citizenship services\, please bring the following: \n\nLegal Permanent Resident Card (green card)\nSocial Security Card\nDriver’s License or Identification\nMost recent tax return\nIf you currently receive Medi-Cal or are low-income\, you may be eligible for a fee waiver\n\nIf you are attending for DACA renewal services\, please bring the following: \n\nCopy of your previous application\nEmployment Authorization Card\nSocial Security card\nDriver’s license or identification\nDACA approval notice (optional)\nPassport (optional)\nApplication available online with payment by credit or debit card ($555.00)\n\nServices are available both by appointment and on a walk-in basis; however\, priority will be given to individuals with appointments scheduled. \nTo schedule an appointment\, please call us at 559-666-6446. \nWe appreciate you sharing this information with your contacts on social media about this event: Immigration Workshop in Orosi June 25\, 2026 \nWe also invite you to download our directory of nonprofit organizations that provide immigration services:\nhttps://vallecentral.org/directorio-servicios-de-inmigracion/ \nThank you for visiting our websites: ValleCentral.org | CVIIC.org | InmigrantesEmprendedores.org
URL:https://vallecentral.org/event/taller-de-inmigracion-en-orosi-25-junio-2026/
LOCATION:Cutler-Orosi Family Education Center\, 40802 Road 128\, Orosi\, CA\, 93647\, United States
CATEGORIES:abogados,ciudadania,cviic,daca,gratuito,green card,inmigracion,Orosi,taller,Workshop
ATTACH;FMTTYPE=image/png:https://vallecentral.org/wp-content/uploads/2026/04/Orosi-Junio-25.png
END:VEVENT
END:VCALENDAR